BEGIN:VCALENDAR
VERSION:2.0
PRODID:-//Nova Polymers - ECPv6.15.17//NONSGML v1.0//EN
CALSCALE:GREGORIAN
METHOD:PUBLISH
X-ORIGINAL-URL:https://novapolymers.com
X-WR-CALDESC:Events for Nova Polymers
REFRESH-INTERVAL;VALUE=DURATION:PT1H
X-Robots-Tag:noindex
X-PUBLISHED-TTL:PT1H
BEGIN:VTIMEZONE
TZID:UTC
BEGIN:STANDARD
TZOFFSETFROM:+0000
TZOFFSETTO:+0000
TZNAME:UTC
DTSTART:20250101T000000
END:STANDARD
END:VTIMEZONE
BEGIN:VEVENT
DTSTART;TZID=UTC:20260129T100000
DTEND;TZID=UTC:20260129T110000
DTSTAMP:20260419T135747
CREATED:20251211T191216Z
LAST-MODIFIED:20251211T191717Z
UID:2112-1769680800-1769684400@novapolymers.com
SUMMARY:The ADA – 2010 Standard For Room Identification Signs CES Course
DESCRIPTION:The ADA – 2010 Standard For Room Identification Signs CES Course\nhttps://live.zoho.com/ghve-upt-xcs \n 
URL:https://novapolymers.com/event/the-ada-2010-standard-for-room-identification-signs-ces-course-5/
END:VEVENT
END:VCALENDAR